BEGIN:VCALENDAR
VERSION:2.0
PRODID:-//sebbo.net//ical-generator//EN
BEGIN:VEVENT
UID:24e9fa0e-0f5d-4816-916a-ebb39378ff0d
SEQUENCE:0
DTSTAMP:20260419T215957Z
DTSTART:20260905T163000Z
DTEND:20260905T200000Z
SUMMARY:AnnenMayKantereit - Live 2026 - Magdeburg - GETEC-Arena
LOCATION:GETEC-Arena\, Berliner Chaussee 32\, 39114 Magdeburg\, Deutschlan
 d
DESCRIPTION:Einlass: 18:30 Uhr\, Beginn: 20:00
END:VEVENT
END:VCALENDAR