BEGIN:VCALENDAR
VERSION:2.0
PRODID:-//sebbo.net//ical-generator//EN
BEGIN:VEVENT
UID:c63bef36-234a-4ccc-a18c-4e7fa11cbe81
SEQUENCE:0
DTSTAMP:20260419T220351Z
DTSTART:20260807T160300Z
DTEND:20260807T200300Z
SUMMARY:20 Jahre SEBASTIAN FITZEK - Die einmalige Jubiläumsshow - Berlin 
 - Waldbühne
LOCATION:Waldbühne\, Glockenturmstraße 1\, im Olympiapark\, 14053 Berlin
 \, Deutschland
DESCRIPTION:Einlass: 18:03 Uhr\, Beginn: 20:03
END:VEVENT
END:VCALENDAR