BEGIN:VCALENDAR
VERSION:2.0
PRODID:-//sebbo.net//ical-generator//EN
BEGIN:VEVENT
UID:73ae2845-1085-4ac8-99c5-65af0b143aae
SEQUENCE:0
DTSTAMP:20260424T222305Z
DTSTART:20261102T180000Z
DTEND:20261102T210000Z
SUMMARY:Yosho - Künstler von Morgen Tour 2026 - Köln - Yuca
LOCATION:Yuca\, Bartholomäus-Schink-Straße 67\, 50825 Köln\, Germany
DESCRIPTION:Doors: 19:00 Uhr\, Start: 20:00
END:VEVENT
END:VCALENDAR