BEGIN:VCALENDAR
VERSION:2.0
PRODID:-//sebbo.net//ical-generator//EN
BEGIN:VEVENT
UID:78fbb68e-bc0f-4919-9e64-79197f3e52e3
SEQUENCE:0
DTSTAMP:20260424T223152Z
DTSTART:20261030T180000Z
DTEND:20261030T210000Z
SUMMARY:Yosho - Künstler von Morgen Tour 2026 - Leipzig - NAUMANNs Tanzlo
 kal
LOCATION:NAUMANNs Tanzlokal\, Karl-Heine-Straße 32\, 04229 Leipzig\, Germ
 any
DESCRIPTION:Doors: 19:00 Uhr\, Start: 20:00
END:VEVENT
END:VCALENDAR