BEGIN:VCALENDAR
VERSION:2.0
PRODID:-//sebbo.net//ical-generator//EN
BEGIN:VEVENT
UID:d35976aa-4fed-4b3b-9c2c-a3aca0760772
SEQUENCE:0
DTSTAMP:20260424T222120Z
DTSTART:20261029T180000Z
DTEND:20261029T210000Z
SUMMARY:Yosho - Künstler von Morgen Tour 2026 - Berlin - Kantine am Bergh
 ain
LOCATION:Kantine am Berghain\, Am Wriezener Bahnhof\, 10243 Berlin\, Germa
 ny
DESCRIPTION:Doors: 19:00 Uhr\, Start: 20:00
END:VEVENT
END:VCALENDAR