BEGIN:VCALENDAR
VERSION:2.0
PRODID:-//sebbo.net//ical-generator//EN
BEGIN:VEVENT
UID:c7737eb1-7932-4b93-8f9e-79eb256238f3
SEQUENCE:0
DTSTAMP:20260424T222121Z
DTSTART:20261031T180000Z
DTEND:20261031T210000Z
SUMMARY:Yosho - Künstler von Morgen Tour 2026 - Hamburg - Hebebühne
LOCATION:Hebebühne\, Barnerstraße 30\, 22765 Hamburg\, Germany
DESCRIPTION:Doors: 19:00 Uhr\, Start: 20:00
END:VEVENT
END:VCALENDAR