BEGIN:VCALENDAR
VERSION:2.0
PRODID:-//sebbo.net//ical-generator//EN
BEGIN:VEVENT
UID:7e5abd56-ca07-4c32-bd80-994b05198d34
SEQUENCE:0
DTSTAMP:20260424T222509Z
DTSTART:20261104T180000Z
DTEND:20261104T210000Z
SUMMARY:Yosho - Künstler von Morgen Tour 2026 - München - Ampere
LOCATION:Ampere\, Zellstraße 4\, 81667 München\, Germany
DESCRIPTION:Doors: 19:00 Uhr\, Start: 20:00
END:VEVENT
END:VCALENDAR