BEGIN:VCALENDAR
VERSION:2.0
PRODID:-//sebbo.net//ical-generator//EN
BEGIN:VEVENT
UID:9aaeeccf-b807-4e5c-8151-ea03445fbf62
SEQUENCE:0
DTSTAMP:20260421T103310Z
DTSTART:20261205T180000Z
DTEND:20261205T210000Z
SUMMARY:Nils Keppel - Jahresabschlussshow - Leipzig - UT Connewitz
LOCATION:UT Connewitz\, Wolfgang-Heinze-Straße 12a\, 04277 Leipzig\, Germ
 any
DESCRIPTION:Doors: 19:00 Uhr\, Start: 20:00
END:VEVENT
END:VCALENDAR