BEGIN:VCALENDAR
VERSION:2.0
PRODID:-//sebbo.net//ical-generator//EN
BEGIN:VEVENT
UID:880a4a74-21b5-4bf7-9058-e39b085e51e0
SEQUENCE:0
DTSTAMP:20260421T092418Z
DTSTART:20261030T173000Z
DTEND:20261030T210000Z
SUMMARY:MEHNERSMOOS - TOUR DE ARSCH - München - Zenith
LOCATION:Zenith\, Lilienthalallee 29\, 80939 München\, Germany
DESCRIPTION:Doors: 18:30 Uhr\, Start: 20:00
END:VEVENT
END:VCALENDAR