BEGIN:VCALENDAR
VERSION:2.0
PRODID:-//sebbo.net//ical-generator//EN
BEGIN:VEVENT
UID:ffcce778-3f66-484d-b73f-004cf2c16620
SEQUENCE:0
DTSTAMP:20260421T100358Z
DTSTART:20261120T173000Z
DTEND:20261120T210000Z
SUMMARY:MEHNERSMOOS - TOUR DE ARSCH - Offenbach am Main - Stadthalle
LOCATION:Stadthalle\, Waldstraße 312\, 63071 Offenbach am Main\, Germany
DESCRIPTION:Doors: 18:30 Uhr\, Start: 20:00
END:VEVENT
END:VCALENDAR