BEGIN:VCALENDAR
VERSION:2.0
PRODID:-//sebbo.net//ical-generator//EN
BEGIN:VEVENT
UID:a6ca7922-336b-49a4-b9c8-5d562c8dae51
SEQUENCE:0
DTSTAMP:20260425T105731Z
DTSTART:20260805T170000Z
DTEND:20260805T200000Z
SUMMARY:Left To Die - Europe 2026 - Berlin - Frannz Club
LOCATION:Frannz Club\, Schönhauser Allee 36\, 10435 Berlin\, Germany
DESCRIPTION:Doors: 19:00 Uhr\, Start: 20:00
END:VEVENT
END:VCALENDAR