BEGIN:VCALENDAR
VERSION:2.0
PRODID:-//sebbo.net//ical-generator//EN
BEGIN:VEVENT
UID:9c961d67-5ea4-4b8f-993b-9c1c805d68be
SEQUENCE:0
DTSTAMP:20260419T233758Z
DTSTART:20260704T150000Z
DTEND:20260704T190000Z
SUMMARY:KRAFTKLUB - "Sterben in Karl-Marx-Stadt" Open Airs 2026 - Bielefel
 d - Ravensberger Park
LOCATION:Ravensberger Park\,  \, 33607 Bielefeld\, Germany
DESCRIPTION:Doors: 17:00 Uhr\, Start: 19:00
END:VEVENT
END:VCALENDAR