BEGIN:VCALENDAR
VERSION:2.0
PRODID:-//sebbo.net//ical-generator//EN
BEGIN:VEVENT
UID:96bfb825-27fa-4026-aa57-f569a0a29500
SEQUENCE:0
DTSTAMP:20260421T093110Z
DTSTART:20260619T133000Z
DTEND:20260620T100000Z
SUMMARY:KDK Open Air 4.0 - Kombiticket Freitag + Samstag - Köln - Südbr
 ücke Open Air
LOCATION:Südbrücke Open Air\, Alfred-Schütte-Allee 34\, 51105 Köln\, G
 ermany
DESCRIPTION:Doors: 15:30 Uhr
END:VEVENT
END:VCALENDAR