BEGIN:VCALENDAR
VERSION:2.0
PRODID:-//sebbo.net//ical-generator//EN
BEGIN:VEVENT
UID:bd4b64b7-3bf5-41ff-b0c7-23336288f07a
SEQUENCE:0
DTSTAMP:20260421T091543Z
DTSTART:20261003T170000Z
DTEND:20261003T200000Z
SUMMARY:Jassin - Die Größere Arsenalplatz Tour - Münster - Skaters Pala
 ce
LOCATION:Skaters Palace\, Dahlweg 126\, 48153 Münster\, Germany
DESCRIPTION:Doors: 19:00 Uhr\, Start: 20:00
END:VEVENT
END:VCALENDAR