BEGIN:VCALENDAR
VERSION:2.0
PRODID:-//sebbo.net//ical-generator//EN
BEGIN:VEVENT
UID:0c66a93d-5a5e-40f5-b49f-d4c4ef547a08
SEQUENCE:0
DTSTAMP:20260419T233449Z
DTSTART:20261023T160000Z
DTEND:20261023T193000Z
SUMMARY:Heimspiel  4 - The Butcher Sisters \, The Browning & Mambo Kurt - 
 Mannheim - Maimarktclub
LOCATION:Maimarktclub\,  Xaver-Fuhr-Straße 101\, 68163 Mannheim\, Germany
DESCRIPTION:Doors: 18:00 Uhr\, Start: 19:30
END:VEVENT
END:VCALENDAR