BEGIN:VCALENDAR
VERSION:2.0
PRODID:-//sebbo.net//ical-generator//EN
BEGIN:VEVENT
UID:5bbf3cf0-2bee-428d-a578-b83ee661beb5
SEQUENCE:0
DTSTAMP:20260419T233449Z
DTSTART:20261024T153000Z
DTEND:20261024T190000Z
SUMMARY:Heimspiel 4 - The Butcher Sisters & Gutalax\, Mittel Alta - Mannhe
 im - Maimarktclub
LOCATION:Maimarktclub\,  Xaver-Fuhr-Straße 101\, 68163 Mannheim\, Germany
DESCRIPTION:Doors: 17:30 Uhr\, Start: 19:00
END:VEVENT
END:VCALENDAR