BEGIN:VCALENDAR
VERSION:2.0
PRODID:-//sebbo.net//ical-generator//EN
BEGIN:VEVENT
UID:e6c141f6-665b-4be6-ab9c-142d438df832
SEQUENCE:0
DTSTAMP:20260425T161050Z
DTSTART:20261030T180000Z
DTEND:20261030T210000Z
SUMMARY:Eli Preiss - (Selbst)bewusst Tour 2026 - Osnabrück - Kleine Freih
 eit
LOCATION:Kleine Freiheit\, Dammstr. 2\, 49084 Osnabrück\, Germany
DESCRIPTION:Doors: 19:00 Uhr\, Start: 20:00
END:VEVENT
END:VCALENDAR