BEGIN:VCALENDAR
VERSION:2.0
PRODID:-//sebbo.net//ical-generator//EN
BEGIN:VEVENT
UID:8e3a0eaf-fe0b-46ad-8cc0-8cf419b5d4c9
SEQUENCE:0
DTSTAMP:20260425T161956Z
DTSTART:20261026T180000Z
DTEND:20261026T210000Z
SUMMARY:Eli Preiss - (Selbst)bewusst Tour 2026 - Stuttgart - Im Wizemann (
 Club)
LOCATION:Im Wizemann (Club)\, Quellenstraße 7\, 70376 Stuttgart\, Germany
DESCRIPTION:Doors: 19:00 Uhr\, Start: 20:00
END:VEVENT
END:VCALENDAR