BEGIN:VCALENDAR
VERSION:2.0
PRODID:-//sebbo.net//ical-generator//EN
BEGIN:VEVENT
UID:6baae59f-db85-44d5-bf6a-ec72f11a2c71
SEQUENCE:0
DTSTAMP:20260425T161623Z
DTSTART:20261105T180000Z
DTEND:20261105T210000Z
SUMMARY:Eli Preiss - (Selbst)bewusst Tour 2026 - München - Hansa 39
LOCATION:Hansa 39\, Hansastraße 39-41\, 81373 München\, Germany
DESCRIPTION:Doors: 19:00 Uhr\, Start: 20:00
END:VEVENT
END:VCALENDAR