BEGIN:VCALENDAR
VERSION:2.0
PRODID:-//sebbo.net//ical-generator//EN
BEGIN:VEVENT
UID:23250439-df10-4013-b3cc-5ea8ee0881a7
SEQUENCE:0
DTSTAMP:20260425T163348Z
DTSTART:20261027T180000Z
DTEND:20261027T210000Z
SUMMARY:Eli Preiss - (Selbst)bewusst Tour 2026 - Frankfurt am Main - Das B
 ett
LOCATION:Das Bett\, Schmidtstrasse 12\, 60326 Frankfurt am Main\, Germany
DESCRIPTION:Doors: 19:00 Uhr\, Start: 20:00
END:VEVENT
END:VCALENDAR