BEGIN:VCALENDAR
VERSION:2.0
PRODID:-//sebbo.net//ical-generator//EN
BEGIN:VEVENT
UID:92a5cb99-fa2d-4a4e-a17f-22bab7cd79af
SEQUENCE:0
DTSTAMP:20260422T142146Z
DTSTART:20260429T163000Z
DTEND:20260429T193000Z
SUMMARY:DISARSTAR - Hamburger Aufstand Live 2026 - Rostock - M.A.U. Club
LOCATION:M.A.U. Club\, Warnowufer 56\, 18057 Rostock\, Germany
DESCRIPTION:Doors: 18:30 Uhr\, Start: 19:30
END:VEVENT
END:VCALENDAR