BEGIN:VCALENDAR
VERSION:2.0
PRODID:-//sebbo.net//ical-generator//EN
BEGIN:VEVENT
UID:65416eb5-c4b6-4bcd-aa13-5e21df7b1ca5
SEQUENCE:0
DTSTAMP:20260421T204753Z
DTSTART:20261119T180000Z
DTEND:20261119T210000Z
SUMMARY:CONNY & Liser - Ælpha Male Club Tour 2026 - Stuttgart - clubCANN
LOCATION:clubCANN\, Kegelenstr. 21\, 70372 Stuttgart\, Germany
DESCRIPTION:Doors: 19:00 Uhr\, Start: 20:00
END:VEVENT
END:VCALENDAR