BEGIN:VCALENDAR
VERSION:2.0
PRODID:-//sebbo.net//ical-generator//EN
BEGIN:VEVENT
UID:1d674267-6e11-4c5e-83a7-80b94d3b5e54
SEQUENCE:0
DTSTAMP:20260421T220747Z
DTSTART:20261120T180000Z
DTEND:20261120T210000Z
SUMMARY:CONNY & Liser - Ælpha Male Club Tour 2026 - Mannheim - Alte Feuer
 wache
LOCATION:Alte Feuerwache\, Brückenstraße 2\, 68167 Mannheim\, Germany
DESCRIPTION:Doors: 19:00 Uhr\, Start: 20:00
END:VEVENT
END:VCALENDAR